Workbook
Name _Ref154751845: 'ΤΙΜΟΛΟΓΙΟ ΗΜ'!#REF!
Name _Ref154751845: 'ΤΙΜΟΛΟΓΙΟ ΠΜ'!#REF!
Name _Toc139544298: 'ΤΙΜΟΛΟΓΙΟ ΗΜ'!#REF!
Name _Toc139544298: 'ΤΙΜΟΛΟΓΙΟ ΠΜ'!#REF!
Name _Toc140153285: 'ΤΙΜΟΛΟΓΙΟ ΗΜ'!#REF!
Name _Toc140153285: 'ΤΙΜΟΛΟΓΙΟ ΠΜ'!#REF!
Name _Toc140762330: 'ΤΙΜΟΛΟΓΙΟ ΗΜ'!#REF!
Name _Toc140762330: 'ΤΙΜΟΛΟΓΙΟ ΠΜ'!#REF!
Name _Toc141459247: 'ΤΙΜΟΛΟΓΙΟ ΗΜ'!#REF!
Name _Toc141459247: 'ΤΙΜΟΛΟΓΙΟ ΠΜ'!#REF!
Name _Toc141459320: 'ΤΙΜΟΛΟΓΙΟ ΗΜ'!#REF!
Name _Toc141459320: 'ΤΙΜΟΛΟΓΙΟ ΠΜ'!#REF!
Name _Toc146210722: 'ΤΙΜΟΛΟΓΙΟ ΗΜ'!#REF!
Name _Toc146210722: 'ΤΙΜΟΛΟΓΙΟ ΠΜ'!$B$21
Name _Toc88641608: 'ΤΙΜΟΛΟΓΙΟ ΗΜ'!#REF!
Name _Toc88641608: 'ΤΙΜΟΛΟΓΙΟ ΠΜ'!#REF!
Name units: #REF!

Sheet ΣΥΝΟΠΤΙΚΟ ΤΙΜΟΛΟΓΙΟ
B2: ΣΥΝΟΠΤΙΚΟ ΤΙΜΟΛΟΓΙΟ
B3: α.α. | C3: Αρ.Τιμολ. | D3: Περιγραφή Εργασίας | E3: Κατ'Αποκοπή Τίμημα
C4: A.ΕΡΓΑΣΙΕΣ ΟΙΚΟΔΟΜΙΚΕΣ
B5: 1 | C5: Α.1 | D5: ΧΩΜΑΤΟΥΡΓΙΚΑ | E5: ='ΤΙΜΟΛΟΓΙΟ ΠΜ'!F16 -> 0
B6: 2 | C6: Α.2 | D6: ΣΚΥΡΟΔΕΜΑΤΑ | E6: ='ΤΙΜΟΛΟΓΙΟ ΠΜ'!F24 -> 0
B7: 3 | C7: Α.3 | D7: ΜΕΤΑΛΛΙΚΕΣ ΚΑΤΑΣΚΕΥΕΣ | E7: ='ΤΙΜΟΛΟΓΙΟ ΠΜ'!F37 -> 0
B8: 4 | C8: Α.4 | D8: ΔΑΠΕΔΑ - ΕΠΙΣΤΡΩΣΕΙΣ - ΕΠΕΝΔΥΣΕΙΣ | E8: ='ΤΙΜΟΛΟΓΙΟ ΠΜ'!F40 -> 0
B9: 5 | C9: Α.5 | D9: ΕΙΔΙΚΟΣ ΕΞΟΠΛΙΣΜΟΣ ΠΡΟΣΤΑΣΙΑΣ | E9: ='ΤΙΜΟΛΟΓΙΟ ΠΜ'!F45 -> 0
B10: 6 | C10: Α.6 | D10: ΜΟΝΩΣΕΙΣ | E10: ='ΤΙΜΟΛΟΓΙΟ ΠΜ'!F51 -> 0
B11: 7 | C11: Α.7 | D11: ΧΡΩΜΑΤΙΣΜΟΙ - ΠΡΟΣΤΑΤΕΥΤΙΚΕΣ ΕΠΙΣΤΡΩΣΕΙΣ | E11: ='ΤΙΜΟΛΟΓΙΟ ΠΜ'!F57 -> 0
D12: Μερικό Σύνολο Α: | E12: =SUM(E5:E11) -> 0
B14: α.α. | C14: Αρ.Τιμολ. | D14: Περιγραφή Εργασίας | E14: Κατ'Αποκοπή Τίμημα
C15: Β.ΕΡΓΑΣΙΕΣ ΗΛΕΚΤΡΟΜΗΧΑΝΟΛΟΓΙΚΕΣ
B16: 8 | C16: Β.1 | D16: ΥΔΡΕΥΣΗ | E16: ='ΤΙΜΟΛΟΓΙΟ ΗΜ'!F17 -> 0
B17: 9 | C17: Β.2 | D17: ΑΠΟΧΕΤΕΥΣΗ | E17: ='ΤΙΜΟΛΟΓΙΟ ΗΜ'!F22 -> 0
B18: 10 | C18: Β.3 | D18: ΠΕΠΙΕΣΜΕΝΟΣ ΑΕΡΑΣ | E18: ='ΤΙΜΟΛΟΓΙΟ ΗΜ'!F31 -> 0
B19: 11 | C19: Β.4 | D19: ΑΝΕΛΚΥΣΤΗΡΑΣ | E19: ='ΤΙΜΟΛΟΓΙΟ ΗΜ'!F34 -> 0
B20: 12 | C20: Β.5 | D20: ΠΥΡΟΠΡΟΣΤΑΣΙΑ | E20: ='ΤΙΜΟΛΟΓΙΟ ΗΜ'!F39 -> 0
B21: 13 | C21: Β.6 | D21: ΙΣΧΥΡΑ ΡΕΥΜΑΤΑ | E21: ='ΤΙΜΟΛΟΓΙΟ ΗΜ'!F62 -> 0
B22: 14 | C22: Β.7 | D22: ΘΕΜΕΛΕΙΑΚΗ ΓΕΙΩΣΗ & ΑΝΤΙΚΕΡΑΥΝΙΚΗ ΠΡΟΣΤΑΣΙΑ | E22: ='ΤΙΜΟΛΟΓΙΟ ΗΜ'!F72 -> 0
D23: Μερικό Σύνολο Β: | E23: =SUM(E16:E22) -> 0
B25: Γενικό Σύνολο Δαπάνης [Α+Β]: | E25: =E12+E23 -> 0
B26: ΦΠΑ 24%: | E26: =E25*0.24 -> 0
B27: Τελικό Σύνολο Δαπάνης (με Φ.Π.Α.): | E27: =E25+E26 -> 0
C29: ΔΙΑΡΚΕΙΑ ΙΣΧΥΟΣ ΠΡΟΣΦΟΡΑΣ
C30: ΧΡΟΝΟΣ ΟΛΟΚΛΗΡΩΣΗΣ ΑΝΤΙΚΕΙΜΕΝΟΥ
C31: ΧΡΟΝΟΣ ΕΓΓΥΗΜΕΝΗΣ ΚΑΛΗΣ ΛΕΙΤΟΥΡΓΙΑΣ
C32: ΕΠΙΘΥΜΗΤΟΣ ΤΡΟΠΟΣ ΠΛΗΡΩΜΗΣ (επιθυμητός τρόπος πληρωμής για την ΟΛΘ Α.Ε. πίστωση 60 ημερών στο εκάστοτε παραστατικό από την ημερομηνία τιμολόγησης)
B34: ……/ ……/ 2026
B35: Ο συμμετέχων
B42: (Ονοματεπώνυμο νόμιμου εκπροσώπου, Σφραγίδα εταιρείας και υπογραφή)

Sheet ΤΙΜΟΛΟΓΙΟ ΠΜ
A1: ΣΥΝΟΠΤΙΚΟ ΤΙΜΟΛΟΓΙΟ - ΠΡΟΫΠΟΛΟΓΙΣΜΟΣ
A2: ΑΡΘΡΟ | B2: ΣΥΝΟΠΤΙΚΗ ΠΕΡΙΓΡΑΦΗ ΕΡΓΑΣΙΑΣ | C2: ΜΟΝ. | D2: ΠΟΣΟΤΗΤΕΣ (ενδεικτικές) | E2: ΤΙΜΗ ΜΟΝ. (€) | F2: ΕΠΙΜΕΡΟΥΣ ΔΑΠΑΝΗ (€)
A4: Α1 | B4: ΧΩΜΑΤΟΥΡΓΙΚΑ
A5: 1.1 | B5: Τομή οδοστρώματος με ασφαλτοκόπτη | C5: m | D5: =600+94.26 -> 694.26 | F5: =D5*E5 -> 0
A6: 1.2 | B6: Απόξεση ασφαλτικού οδοστρώματος (φρεζάρισμα) σε βάθος έως 6 cm | C6: m2 | D6: 373.55 | F6: =D6*E6 -> 0
A7: 1.3 | B7: Εκσκαφή σε έδαφος γαιώδες-ημιβραχώδες (γενική εκσκαφή, θεμέλια, τάφροι κλπ.), φόρτωση και μεταφορά των προϊόντων εκσκαφής και εναπόθεση τους σε Πιστοποιημένο Φορέα Διαχείρισης Αποβλήτων περιλαμβανομένου του κόστους διαχείρησης. Το άρθρο περιλαμβάνει και την άντληση υδάτων όπου απαιτείται. | C7: m3 | D7: =531+1035+857.65 -> 2423.65 | F7: =D7*E7 -> 0
A8: 1.3a | B8: Μετατόπιση Δικτύων στην περιοχή Επέμβασης | D8: Κατ' αποκοπήν | F8: 0
A9: 1.4 | B9: Γεωύφασμα μη υφαντό βάρους 280 gr/m2 | C9: m2 | D9: =665+1196.32 -> 1861.32 | F9: =D9*E9 -> 0
A10: 1.5 | B10: Eξυγιαντική αποστραγγιστική στρώση θεμελίωσης με θραυστό υλικό λατομείου κόκκου 20-70mm ύψους 15cm (Σκύρα θραυστά) | C10: m3 | D10: =123+598.16 -> 721.16 | F10: =D10*E10 -> 0
A11: 1.6 | B11: Ανώτερη εξυγιαντική αποστραγγιστική στρώση πάχους 15cm, θραυστά υλικά κατηγορίας Α-1-a κατά AASHO ή Ε4 κατά ΕΛΟΤ ΤΠ1501-05-03-01, συμπυκνωμένα. | C11: m3 | D11: =410.81*0.15 -> 61.6215 | F11: =D11*E11 -> 0
A12: 1.7 | B12: Επίχωση περιμετρικά της θεμελίωσης από θραυστά υλικά κατηγορίας Α-1-a κατά AASHO ή Ε4 κατά ΕΛΟΤ ΤΠ1501-05-03-01, συμπυκνωμένα. | C12: m3 | D12: =333.19*0.59 -> 196.5821 | F12: =D12*E12 -> 0
A13: 1.8 | B13: Προμήθεια & διάστρωση φύλλου πολυαιθυλενίου, με αλληλοεπικάλυψη των φύλλων κατά 10 cm | C13: m2 | D13: 605 | F13: =D13*E13 -> 0
A14: 1.9 | B14: Υπόβαση οδοστρωσίας συμπυκωμένου πάχους 0,10 m και βάση οδοστρωσίας πάχους 0,10 m (Π.Τ.Π. Ο-155) | C14: m2 | D14: 373.55 | F14: =D14*E14 -> 0
A15: 1.10 | B15: Οδοστρωσία (ασφαλτόστρωση) | C15: m2 | D15: 373.55 | F15: =D15*E15 -> 0
B16: ΑΘΡΟΙΣΜΑ ΔΑΠΑΝΩΝ ΚΑΤΗΓΟΡΙΑΣ 1 | F16: =SUM(F5:F15) -> 0
A17: Α2 | B17: ΣΚΥΡΟΔΕΜΑΤΑ
A18: 2.1 | B18: Κατασκευή σκυροδέματος καθαριότητας κατηγορίας C12/15, σύμφωνα με την στατική μελέτη | C18: m3 | D18: 52.5 | F18: =D18*E18 -> 0
A19: 2.2 | B19: Κατασκευή θεμελίωσης φέροντος οργανισμού (κοιτόστρωση & εδαφόπλακα) από οπλισμένο σκυρόδεμα κατηγορίας C30/37 (Προμήθεια σκυροδέματος, εργασίες ξυλοτύπων και σκυροδέτηση) | C19: m3 | D19: =370+61.2+3.2*0.3+299.08 -> 731.24 | F19: =D19*E19 -> 0
A20: 2.3 | B20: Κατασκευή τοιχίου προστασίας από οπλισμένο σκυρόδεμα κατηγορίας C30/37 (Προμήθεια σκυροδέματος, εργασίες ξυλοτύπων και σκυροδέτηση) | C20: m3 | D20: 22 | F20: =D20*E20 -> 0
A21: 2.4 | B21: Κατασκευή θεμελίωσης φέροντος οργανισμού - χάλυβα οπλισμού κατηγορίας Β500C | C21: kg | D21: =99348.56+15039.87 -> 114388.43 | F21: =D21*E21 -> 0
A22: 2.5 | B22: Κατασκευή τοιχίου προστασίας - χάλυβα οπλισμού κατηγορίας Β500C | C22: kg | D22: 3843 | F22: =D22*E22 -> 0
A23: 2.6 | B23: Πλήρης Κατασκευή Φρεατοπάσσαλων Ø80, συμπεριλαμβανομένου του μπεντονίτη - 23m | C23: m | D23: 874 | F23: =D23*E23 -> 0
B24: ΑΘΡΟΙΣΜΑ ΔΑΠΑΝΩΝ ΚΑΤΗΓΟΡΙΑΣ 2 | F24: =SUM(F18:F23) -> 0
A25: Α3 | B25: ΜΕΤΑΛΛΙΚΕΣ ΚΑΤΑΣΚΕΥΕΣ
A26: 3.1 | B26: Πλήρης κατασκευή και τοποθέτηση μεταλλικού φέροντος σκελετού της πλατφόρμας από φέροντα στοιχεία από σιδηροδοκούς ή κοιλοδοκούς ύψους ή πλευράς έως 160 mm | C26: kg | D26: 63940 | F26: =D26*E26 -> 0
A27: 3.2 | B27: Πλήρης κατασκευή και τοποθέτηση μεταλλικού φέροντος σκελετού της πλατφόρμας από φέροντα στοιχεία από σιδηροδοκούς ή κοιλοδοκούς ύψους ή πλευράς >160 mm | C27: kg | D27: 30675 | F27: =D27*E27 -> 0
A28: 3.3 | B28: Επαύξηση τιμής φερόντων στοιχείων από σιδηροδοκούς, κοιλοδοκούς λόγω εφαρμογής συστήματος βαφής (πυροβαφή R60min, T550oC & σφραγιστική βαφή) – Κατάταξη C4 | C28: kg | D28: 94615 | F28: =D28*E28 -> 0
A29: 3.3a | B29: Επαύξηση τιμής φερόντων μεταλλικών στοιχείων από σιδηροδοκούς και κοιλοδοκούς, λόγω εφαρμογής συστήματος μη θερμοδιογκούμενης προστατευτικής βαφής και σφραγιστικής βαφής, κατάταξης C4. | C29: kg | D29: 94615 | F29: =D29*E29 -> 0
A30: 3.4 | B30: Ειδική τραπεζοειδής γαλβανισμένη λαμαρίνα επικάλυψης, ενδεικτικού τύπου TR55/150 ή ισοδύναμη, πάχους 0.75mm | C30: m2 | D30: 133.25 | F30: =D30*E30 -> 0
A31: 3.5 | B31: Ηλεκτροπρεσαριστά πατήματα κλιμακοστασίων, βιδωτά (λάμα 30x3, βροχίδα 15x76, εγκάρσια ράβδο Φ4mm, ειδικές πλευρές από λάμα 70x3) με αντιολισθητικό προφίλ | C31: pcs | D31: 129 | F31: =D31*E31 -> 0
A32: 3.6 | B32: Δάπεδο κυκλοφορίας από ηλεκτροπρεσαριστές σχάρες (λάμα 30x3, βροχίδα 15x76, εγκάρσια ράβδο Φ4mm) | C32: m2 | D32: =181.22+40.14 -> 221.36 | F32: =D32*E32 -> 0
A33: 3.7 | B33: Σιδηρά κιγκλιδώματα από θερμογαλβανισμένες ράβδους συνήθων διατομών | C33: m | D33: 306.5 | F33: =D33*E33 -> 0
A34: 3.8 | B34: Χειρολισθήρας θερμογαλβανισμένος | C34: m | D34: 191.5 | F34: =D34*E34 -> 0
A35: 3.9 | B35: Stop τροχών, από θερμογαλβανισμένη κοιλοδοκό 200x200x8mm (RAL 1023) | C35: kg | D35: 2587.2 | F35: =D35*E35 -> 0
A36: 3.10 | B36: Μεταλλικά αρμοκάλυπτρα από στρανταριστή λαμαρίνα εύρους 50 mm | C36: m | D36: 1.35 | F36: =D36*E36 -> 0
B37: ΑΘΡΟΙΣΜΑ ΔΑΠΑΝΩΝ ΚΑΤΗΓΟΡΙΑΣ 3 | F37: =SUM(F26:F36) -> 0
A38: Α4. | B38: ΔΑΠΕΔΑ - ΕΠΙΣΤΡΩΣΕΙΣ - ΕΠΕΝΔΥΣΕΙΣ
A39: 4.1 | B39: Κατασκευή αντιολισθηρής επιφάνειας σκυροδέματος (χτενιστό) | C39: m2 | D39: 408 | F39: =D39*E39 -> 0
B40: ΑΘΡΟΙΣΜΑ ΔΑΠΑΝΩΝ ΚΑΤΗΓΟΡΙΑΣ 4 | F40: =SUM(F39:F39) -> 0
A41: Α5. | B41: ΕΙΔΙΚΟΣ ΕΞΟΠΛΙΣΜΟΣ ΠΡΟΣΤΑΣΙΑΣ
...

Sheet ΤΙΜΟΛΟΓΙΟ ΗΜ
A1: ΣΥΝΟΠΤΙΚΟ ΤΙΜΟΛΟΓΙΟ - ΠΡΟΫΠΟΛΟΓΙΣΜΟΣ
A2: ΑΡΘΡΟ | B2: ΣΥΝΟΠΤΙΚΗ ΠΕΡΙΓΡΑΦΗ ΕΡΓΑΣΙΑΣ | C2: ΜΟΝ. | D2: ΠΟΣΟΤΗΤΕΣ (ενδεικτικές) | E2: ΤΙΜΗ ΜΟΝ. (€) | F2: ΕΠΙΜΕΡΟΥΣ ΔΑΠΑΝΗ (€)
A5: ΗΛΕΚΤΡΟΜΗΧΑΝΟΛΟΓΙΚΑ
B6: ΥΔΡΕΥΣΗ
A7: 1 | B7: Σωλήνας πολυπροπυλενίου PP-R PN20 διαμέτρου Φ20 | C7: m | D7: 48 | F7: =D7*E7 -> 0
A8: 2 | B8: Σωλήνας πολυπροπυλενίου PP-R PN20 διαμέτρου Φ25 | C8: m | D8: 130 | F8: =D8*E8 -> 0
A9: 3 | B9: Σωλήνας πολυπροπυλενίου PP-R PN20 διαμέτρου Φ32 | C9: m | D9: 16 | F9: =D9*E9 -> 0
A10: 4 | B10: Μόνωση με εξωτερική επένδυση μεβράνης U.V. Διαμέτρου 1΄΄ | C10: m | D10: 48 | F10: =D10*E10 -> 0
A11: 5 | B11: Μόνωση με εξωτερική επένδυση μεβράνης U.V. Διαμέτρου 1 1/4΄΄ | C11: m | D11: 130 | F11: =D11*E11 -> 0
A12: 6 | B12: Μόνωση με εξωτερική επένδυση μεβράνης U.V. Διαμέτρου 1 1/2'' | C12: m | D12: 16 | F12: =D12*E12 -> 0
A13: 7 | B13: Κάνουλα βαρέως τύπου αντιπαγωτική διαμέτρου 1/2" | C13: τεμ | D13: 10 | F13: =D13*E13 -> 0
A14: 8 | B14: Πυροσβεστική Φωλιά με Γάντζο με Λάστιχο Νερού 3/4 ”, μήκους 20m | C14: τεμ | D14: 3 | F14: =D14*E14 -> 0
A15: 9 | B15: Φρεάτιο ύδρευσης, διαστάσεων 50cm X 50cm και βάθος έως 0,50 m | C15: τεμ | D15: 1 | F15: =D15*E15 -> 0
A16: 10 | B16: Καπάκι φρεατίου χυτοσιδηρό, διαστλασεων 50x50 cm, κλάσης D400 | C16: τεμ | D16: 1 | F16: =D16*E16 -> 0
F17: =SUM(F7:F16) -> 0
B18: ΑΠΟΧΕΤΕΥΣΗ
A19: 1 | B19: Γαλβανισμένος σιδηροσωλήνας βαρέως τύπου διαμέτρου 4'' | C19: m | D19: 36 | F19: =D19*E19 -> 0
A20: 2 | B20: Υδρορρόη από γαλβανισμένη λαμαρίνα ανοικτή ημικυκλική | C20: m | D20: 72 | F20: =D20*E20 -> 0
A21: 3 | B21: Κεφαλή υδρορρόης με φυλλοσυλλέκτη | C21: τεμ | D21: 2 | F21: =D21*E21 -> 0
F22: =SUM(F19:F21) -> 0
B23: ΠΕΠΙΕΣΜΕΝΟΣ ΑΕΡΑΣ
A24: 1 | B24: Γαλβανισμένος σιδηροσωλήνας βαρέως τύπου διαμέτρου 1/2'' | C24: m | D24: 67 | F24: =D24*E24 -> 0
A25: 2 | B25: Γαλβανισμένος σιδηροσωλήνας βαρέως τύπου διαμέτρου 1'' | C25: m | D25: 57 | F25: =D25*E25 -> 0
A26: 3 | B26: Γαλβανισμένος σιδηροσωλήνας βαρέως τύπου διαμέτρου 1 1/4'' | C26: m | D26: 22 | F26: =D26*E26 -> 0
A27: 4 | B27: Γαλβανισμένος σιδηροσωλήνας βαρέως τύπου διαμέτρου 1 1/2'' | C27: m | D27: 14 | F27: =D27*E27 -> 0
A28: 5 | B28: Λήψη πεπιεσμένου αέρα | C28: τεμ | D28: 10 | F28: =D28*E28 -> 0
A29: 6 | B29: Φρεάτιο πεπιεσμένου αέρα, διαστάσεων 50cm X 50cm και βάθος έως 0,50 m | C29: τεμ | D29: 1 | F29: =D29*E29 -> 0
A30: 7 | B30: Κάπακι φρεατίου χυτοσιδηρό, διαστλασεων 50x50 cm, κλάσης D400 | C30: τεμ | D30: 1 | F30: =D30*E30 -> 0
F31: =SUM(F24:F30) -> 0
B32: ΑΝΕΛΚΥΣΤΗΡΑΣ
A33: 1 | B33: Ανελκυστήρας ALIMAK SE 300 DOL 780 x 1040mm Διαδρομή 11855mm (11 kW) | C33: τεμ | D33: 1 | F33: =D33*E33 -> 0
F34: =SUM(F33:F33) -> 0
B35: ΠΥΡΟΠΡΟΣΤΑΣΙΑ
A36: 1 | B36: Πυροσβεστήρας Pa 6kg με πλαστική θήκη προστασίας και σήμανση & στήριγμα. | C36: τεμ | D36: 7 | F36: =D36*E36 -> 0
A37: 2 | B37: Πυροσβεστήρας CO2 5kg με πλαστική θήκη προστασίας και σήμανση & στήριγμα. | C37: τεμ | D37: 7 | F37: =D37*E37 -> 0
A38: 3 | B38: Φωτιστικό ασφαλείας απλό στεγανού τύπου για τοποθέτηση σε εξωτερικό χώρο. | C38: τεμ | D38: 7 | F38: =D38*E38 -> 0
F39: =SUM(F36:F38) -> 0
B41: ΙΣΧΥΡΑ ΡΕΥΜΑΤΑ
A42: 1 | B42: Σχάρα ηλεκτρικών καλωδίων διάτρητη γαλβανισμένη εν θερμό βαρέος τύπου με κάλυμμα διαστάσεων 100×60×1,5mm | C42: m | D42: 30 | F42: =D42*E42 -> 0
A43: 2 | B43: Σχάρα ηλεκτρικών καλωδίων διάτρητη γαλβανισμένη εν θερμό βαρέος τύπου με κάλυμμα διαστάσεων 200×60×1,5mm | C43: m | D43: 40 | F43: =D43*E43 -> 0
...

Sheet SUMMARY INVOICE
A1: SUMMARY INVOICE
A2: s/n | B2: Price Item No. | C2: Description of Works | D2: Lump-Sum Price
B3: A. BUILDING WORKS
A4: 1 | B4: A.1 | C4: EARTHWORKS | D4: ='ΤΙΜΟΛΟΓΙΟ ΠΜ'!E15 -> 0
A5: 2 | B5: A.2 | C5: CONCRETE WORKS | D5: ='ΤΙΜΟΛΟΓΙΟ ΠΜ'!E23 -> 0
A6: 3 | B6: A.3 | C6: STEEL STRUCTURES | D6: ='ΤΙΜΟΛΟΓΙΟ ΠΜ'!E36 -> 0
A7: 4 | B7: A.4 | C7: FLOORING – SURFACINGS – CLADDINGS | D7: ='ΤΙΜΟΛΟΓΙΟ ΠΜ'!E39 -> 0
A8: 5 | B8: A.5 | C8: SPECIAL PROTECTIVE EQUIPMENT | D8: ='ΤΙΜΟΛΟΓΙΟ ΠΜ'!E44 -> 0
A9: 6 | B9: A.6 | C9: INSULATION WORKS | D9: ='ΤΙΜΟΛΟΓΙΟ ΠΜ'!E50 -> 0
A10: 7 | B10: A.7 | C10: PAINTING – PROTECTIVE COATINGS | D10: ='ΤΙΜΟΛΟΓΙΟ ΠΜ'!E56 -> 0
C11: Subtotal A: | D11: =SUM(D4:D10) -> 0
A12: s/n | B12: Price Item No. | C12: Description of Works | D12: Lump-Sum Price
B13: B. ELECTROMECHANICAL WORKS
A14: 8 | B14: B.1 | C14: WATER SUPPLY | D14: ='ΤΙΜΟΛΟΓΙΟ ΗΜ'!E15 -> 0
A15: 9 | B15: B.2 | C15: DRAINAGE | D15: ='ΤΙΜΟΛΟΓΙΟ ΗΜ'!E20 -> 0
A16: 10 | B16: B.3 | C16: COMPRESSED AIR | D16: ='ΤΙΜΟΛΟΓΙΟ ΗΜ'!E29 -> 0
A17: 11 | B17: B.4 | C17: ELEVATOR | D17: ='ΤΙΜΟΛΟΓΙΟ ΗΜ'!E32 -> 0
A18: 12 | B18: B.5 | C18: FIRE PROTECTION | D18: ='ΤΙΜΟΛΟΓΙΟ ΗΜ'!E37 -> 0
A19: 13 | B19: B.6 | C19: POWER ELECTRICAL INSTALLATIONS | D19: ='ΤΙΜΟΛΟΓΙΟ ΗΜ'!E60 -> 0
A20: 14 | B20: B.7 | C20: FOUNDATION EARTHING – LIGHTNING PROTECTION | D20: ='ΤΙΜΟΛΟΓΙΟ ΗΜ'!E70 -> 0
C21: Subtotal B: | D21: =SUM(D14:D20) -> 0
C22: Total Cost [A+B]: | D22: =D11+D21 -> 0
C23: VAT 24%: | D23: =D22*0.24 -> 0
C24: Final Total Cost (incl. VAT): | D24: =D22+D23 -> 0
A25: Final Total Cost (incl. VAT) written in full in euro:
B28: BID VALIDITY
B29: TIME OF PROJECT COMPLETION
B30: GOOD OPERATION GUARANTEE
B31: DESIRED PAYMENT TERM
A33: ……/ ……/ 2026
A34: The Participant
A41: (Name & Surname of the legal Representative & Corporate Stamp and Signture)

Sheet CE INVOICE
A1: SUMMARY BILL OF QUANTITIES – BUDGET
A2: ARTICLE | B2: BRIEF DESCRIPTION OF WORK | C2: UNIT | D2: QUANTITIES (indicative) | E2: UNIT PRICE (€) | F2: PARTIAL COST
F3: (€)
A5: A1 | B5: EARTHWORKS
A6: 1.1 | B6: Pavement cutting with asphalt cutter | C6: m | D6: =600+94.26 -> 694.26 | F6: =D6*E6 -> 0
A7: 1.2 | B7: Milling/removal of asphalt pavement to a depth of up to 6 cm | C7: m2 | D7: 373.55 | F7: =D7*E7 -> 0
A8: 1.3 | B8: Excavation in soil/semi-rocky ground (general excavation, foundations, trenches, etc.), loading and transport of excavation products and disposal thereof to a Certified Waste Management Operator, including management cost. This item also includes water pumping where required. | C8: m3 | D8: =531+1035+857.65 -> 2423.65 | F8: =D8*E8 -> 0
A9: 1.3a | B9: Relocation of utility networks within the intervention area | D9: Lump Sum | F9: 0
A10: 1.4 | B10: Non-woven geotextile, weight 280 gr/m² | C10: m2 | D10: =665+1196.32 -> 1861.32 | F10: =D10*E10 -> 0
A11: 1.5 | B11: Drainage foundation layer with crushed quarry material 20–70 mm, thickness 15 cm (crushed aggregates) | C11: m3 | D11: =123+598.16 -> 721.16 | F11: =D11*E11 -> 0
A12: 1.6 | B12: Upper drainage layer, thickness 15 cm, crushed materials category A-1-a according to AASHO or E4 according to ELOT TP1501-05-03-01, compacted. | C12: m3 | D12: =410.81*0.15 -> 61.6215 | F12: =D12*E12 -> 0
A13: 1.7 | B13: Backfilling around the foundation with crushed materials category A-1-a according to AASHO or E4 according to ELOT TP1501-05-03-01, compacted. | C13: m3 | D13: =333.19*0.59 -> 196.5821 | F13: =D13*E13 -> 0
A14: 1.8 | B14: Supply and installation of polyethylene sheeting with 10 cm overlap between sheets | C14: m2 | D14: 605 | F14: =D14*E14 -> 0
A15: 1.9 | B15: Road sub-base compacted thickness 0.10 m and road base thickness 0.10 m (Standard Spec. O-155) | C15: m2 | D15: 373.55 | F15: =D15*E15 -> 0
A16: 1.10 | B16: Road paving (asphalt surfacing) | C16: m2 | D16: 373.55 | F16: =D16*E16 -> 0
B17: TOTAL CATEGORY 1 COSTS: | F17: =SUM(F6:F16) -> 0
A18: Α2 | B18: CONCRETE WORKS
A19: 2.1 | B19: Construction of blinding concrete class C12/15, according to the structural design | C19: m3 | D19: 52.5 | F19: =D19*E19 -> 0
A20: 2.2 | B20: Construction of load-bearing foundation (raft foundation & slab-on-grade) of reinforced concrete class C30/37 (supply of concrete, formwork and concreting works) | C20: m3 | D20: =370+61.2+3.2*0.3+299.08 -> 731.24 | F20: =D20*E20 -> 0
A21: 2.3 | B21: Construction of protective wall of reinforced concrete class C30/37 (supply of concrete, formwork and concreting works) | C21: m3 | D21: 22 | F21: =D21*E21 -> 0
A22: 2.4 | B22: Construction of load-bearing foundation – reinforcing steel class B500C | C22: kg | D22: =99348.56+15039.87 -> 114388.43 | F22: =D22*E22 -> 0
A23: 2.5 | B23: Construction of protective wall – reinforcing steel class B500C | C23: kg | D23: 3843 | F23: =D23*E23 -> 0
A24: 2.6 | B24: Complete construction of bored piles Ø80, including bentonite – 23 m | C24: m | D24: 874 | F24: =D24*E24 -> 0
B25: TOTAL CATEGORY 2 COSTS: | F25: =SUM(F19:F24) -> 0
A26: Α3 | B26: STEEL STRUCTURES
A27: 3.1 | B27: Full construction and installation of steel load-bearing frame of the platform using steel beams or hollow sections up to 160 mm height/side. | C27: kg | D27: 63940 | F27: =D27*E27 -> 0
A28: 3.2 | B28: Full construction and installation of steel load-bearing frame of the platform using steel beams or hollow sections >160 mm height/side. | C28: kg | D28: 30675 | F28: =D28*E28 -> 0
A29: 3.3 | B29: Additional price for steel members due to application of coating system (fire-resistant coating R60min, T550°C & sealing coat) – Classification C4 | C29: kg | D29: 94615 | F29: =D29*E29 -> 0
A30: 3.3a | B30: Price adjustment for load-bearing steel members consisting of steel beams and hollow structural sections, due to the application of a non-intumescent protective coating system, including sealing topcoat, for corrosion protection category C4. | C30: kg | D30: 94615 | F30: =D30*E30 -> 0
A31: 3.4 | B31: Special trapezoidal galvanized steel sheeting, indicative type TR55/150 or equivalent, thickness 0.75 mm | C31: m2 | D31: 133.25 | F31: =D31*E31 -> 0
A32: 3.5 | B32: Electroforged stair treads, bolted (flat bar 30x3, mesh 15x76, transverse rod Φ4mm, special side bars 70x3) with anti-slip profile. | C32: pcs | D32: 129 | F32: =D32*E32 -> 0
A33: 3.6 | B33: Walking surface flooring from electroforged gratings (flat bar 30x3, mesh 15x76, transverse rod Φ4mm) | C33: m2 | D33: =181.22+40.14 -> 221.36 | F33: =D33*E33 -> 0
A34: 3.7 | B34: Steel railings from hot-dip galvanized bars of standard sections | C34: m | D34: 306.5 | F34: =D34*E34 -> 0
A35: 3.8 | B35: Hot-dip galvanized handrail | C35: m | D35: 191.5 | F35: =D35*E35 -> 0
A36: 3.9 | B36: Wheel stop from hot-dip galvanized hollow section 200x200x8 mm (RAL 1023) | C36: kg | D36: 2587.2 | F36: =D36*E36 -> 0
A37: 3.10 | B37: Metal joint covers from bent sheet metal width 50 mm | C37: m | D37: 1.35 | F37: =D37*E37 -> 0
B38: TOTAL CATEGORY 3 COSTS: | F38: =SUM(F27:F37) -> 0
A39: A4. | B39: FLOORING – SURFACINGS – CLADDINGS
A40: 4.1 | B40: Construction of anti-slip concrete surface (brushed finish) | C40: m2 | D40: 408 | F40: =D40*E40 -> 0
B41: TOTAL CATEGORY 4 COSTS: | F41: =SUM(F40:F40) -> 0
...

Sheet EM INVOICE
A1: SUMMARY BILL OF QUANTITIES – BUDGET
A2: ARTICLE | B2: BRIEF DESCRIPTION OF WORK | C2: UNIT | D2: QUANTITIES (indicative) | E2: UNIT PRICE (€) | F2: PARTIAL COST (€)
A3: ELECTROMECHANICAL WORKS
B4: WATER SUPPLY
A5: 1 | B5: Polypropylene pipe PP-R PN20 diameter Φ20 | C5: m | D5: 48.00 | F5: =D5*E5 -> 0
A6: 2 | B6: Polypropylene pipe PP-R PN20 diameter Φ25 | C6: m | D6: 130.00 | F6: =D6*E6 -> 0
A7: 3 | B7: Polypropylene pipe PP-R PN20 diameter Φ32 | C7: m | D7: 16.00 | F7: =D7*E7 -> 0
A8: 4 | B8: Insulation with external U.V. membrane cladding, Diameter 1΄΄ | C8: m | D8: 48.00 | F8: =D8*E8 -> 0
A9: 5 | B9: Insulation with external U.V. membrane cladding, Diameter 1 1/4΄΄ | C9: m | D9: 130.00 | F9: =D9*E9 -> 0
A10: 6 | B10: Insulation with external U.V. membrane cladding Diameter 1 1/2'' | C10: m | D10: 16.00 | F10: =D10*E10 -> 0
A11: 7 | B11: Heavy-duty anti-freeze tap, diameter 1/2' | C11: pcs | D11: 10.00 | F11: =D11*E11 -> 0
A12: 8 | B12: Fire place with hook with 3/4” water hose, 20m long | C12: pcs | D12: 3.00 | F12: =D12*E12 -> 0
A13: 9 | B13: Water supply manhole, dimensions 50 cm x 50 cm and depth up to 0.50 m | C13: pcs | D13: 1.00 | F13: =D13*E13 -> 0
A14: 10 | B14: Cast iron manhole cover, dimensions 50x50 cm, class D400 | C14: pcs | D14: 1.00 | F14: =D14*E14 -> 0
F15: =SUM(F5:F14) -> 0
B16: DRAINAGE
A17: 1 | B17: Heavy-duty galvanized steel pipe, diameter 4' | C17: m | D17: 36.00 | F17: =D17*E17 -> 0
A18: 2 | B18: Open semi-circular galvanized sheet metal gutter | C18: m | D18: 72.00 | F18: =D18*E18 -> 0
A19: 3 | B19: Gutter head with leaf collector | C19: pcs | D19: 2.00 | F19: =D19*E19 -> 0
F20: =SUM(F17:F19) -> 0
B21: COMPRESSED AIR
A22: 1 | B22: Heavy-duty galvanized steel pipe, diameter 1/2' | C22: m | D22: 67.00 | F22: =D22*E22 -> 0
A23: 2 | B23: Heavy-duty galvanized steel pipe, diameter 1'' | C23: m | D23: 57.00 | F23: =D23*E23 -> 0
A24: 3 | B24: Heavy-duty galvanized steel pipe, diameter 1 1/4'' | C24: m | D24: 22.00 | F24: =D24*E24 -> 0
A25: 4 | B25: Heavy-duty galvanized steel pipe, diameter 1 1/2'' | C25: m | D25: 14.00 | F25: =D25*E25 -> 0
A26: 5 | B26: Compressed air outlet | C26: pcs | D26: 10.00 | F26: =D26*E26 -> 0
A27: 6 | B27: Compressed air manhole, dimensions 50 cm x 50 cm and depth up to 0.50 m | C27: pcs | D27: 1.00 | F27: =D27*E27 -> 0
A28: 7 | B28: Cast iron manhole cover, dimensions 50x50 cm, class D400 | C28: pcs | D28: 1.00 | F28: =D28*E28 -> 0
F29: =SUM(F22:F28) -> 0
B30: ELEVATOR
A31: 1 | B31: ALIMAK SE 300 DOL elevator 780 x 1040 mm, travel 11855 mm (11 kW) | C31: pcs | D31: 1.00 | F31: =D31*E31 -> 0
F32: =SUM(F31:F31) -> 0
B33: FIRE PROTECTION
A34: 1 | B34: Pa 6 kg fire extinguisher with plastic protective case, signage and bracket | C34: pcs | D34: 7.00 | F34: =D34*E34 -> 0
A35: 2 | B35: CO2 5 kg fire extinguisher with plastic protective case, signage and bracket. | C35: pcs | D35: 7.00 | F35: =D35*E35 -> 0
A36: 3 | B36: Simple weatherproof emergency light fitting for outdoor installation. | C36: pcs | D36: 7.00 | F36: =D36*E36 -> 0
F37: =SUM(F34:F36) -> 0
B39: POWER INSTALLATIONS
A40: 1 | B40: Heavy-duty hot-dip galvanized perforated cable tray with cover, dimensions 100×60×1.5 mm | C40: m | D40: 30.00 | F40: =D40*E40 -> 0
A41: 2 | B41: Heavy-duty hot-dip galvanized perforated cable tray with cover, dimensions 200×60×1.5 mm | C41: m | D41: 40.00 | F41: =D41*E41 -> 0
...
